BEGIN:VCALENDAR
VERSION:2.0
PRODID:-//NAAAP Kansas City//Silkstart Technology Inc.//
BEGIN:VTIMEZONE
TZID:US/Central
BEGIN:DAYLIGHT
DTSTART;VALUE=DATE-TIME:20260308T020000
TZNAME:CDT
TZOFFSETFROM:-0600
TZOFFSETTO:-0500
END:DAYLIGHT
BEGIN:STANDARD
DTSTART;VALUE=DATE-TIME:20261101T020000
TZNAME:CST
TZOFFSETFROM:-0500
TZOFFSETTO:-0600
END:STANDARD
END:VTIMEZONE
BEGIN:VEVENT
SUMMARY:The Art of Being AANHPI Event Volunteering
DTSTART;TZID=US/Central;VALUE=DATE-TIME:20260502T100000
DTEND;TZID=US/Central;VALUE=DATE-TIME:20260502T160000
DTSTAMP;VALUE=DATE-TIME:20260420T200727
UID:69e6877f57912605f60228f1
DESCRIPTION: Volunteer with NAAAPKC at Hella Good Deed's 6th annual AANHPI 
 Heritage Festival! Hosted at the Zhou B Art Center on Saturday\, May 2nd\,
  from 10AM - 4PM. Sign up for a volunteer slot above. 
LOCATION:1801 E 18th St\, Kansas City\, MO 64108
PRIORITY:5
URL:https://kc.naaap.org:443/events/hella-good-deeds-aanhpi-festival
END:VEVENT
END:VCALENDAR
